BEGIN:VCALENDAR
VERSION:2.0
CALSCALE:GREGORIAN
PRODID:adamgibbons/ics
METHOD:PUBLISH
X-PUBLISHED-TTL:PT1H
BEGIN:VEVENT
UID:678@keepkarlsruheboring.org
SUMMARY:Konzert: Hotel Bossa Nova [18 - 26 €]
DTSTAMP:20260423T114040Z
DTSTART:20260508T180000Z
URL:https://keepkarlsruheboring.org/event/hotel-bossa-nova
GEO:49.0135;8.35882
LOCATION:Kulturzentrum Tempel - Kulturverein Tempel e.V. im Kulturzentrum T
	empel Hardtstraße 37 A D-76185 Karlsruhe
STATUS:CONFIRMED
CATEGORIES:latin Musik,Music,Ticket
END:VEVENT
END:VCALENDAR
